BEGIN:VCALENDAR
VERSION:2.0
PRODID:-//demosphere.net//NONSGML kigkonsult.se iCalcreator 2.22.1//
METHOD:REQUEST
X-WR-TIMEZONE:Europe/Athens
BEGIN:VEVENT
UID:https://mail.kinimatorama.net/event/10011
DTSTAMP:20110430T090000Z
DESCRIPTION:περισσότερες πληροφορίες: https://mail.kinimatorama.net/event/1
 0011 
DTSTART:20110430T090000Z
DTEND:20110430T100000Z
GEO:+37.975682;+23.734846
LOCATION:Αθήνα\, \nΠλατεία Συντάγματος (Σύνταγμα)
SUMMARY:Μικροφωνική Αλληλεγγύης στον Άρη Σειρηνίδη
URL:https://mail.kinimatorama.net/event/10011
END:VEVENT
END:VCALENDAR
