BEGIN:VCALENDAR
VERSION:2.0
PRODID:-//demosphere.net//NONSGML kigkonsult.se iCalcreator 2.22.1//
METHOD:REQUEST
X-WR-TIMEZONE:Europe/Athens
BEGIN:VEVENT
UID:https://mail.kinimatorama.net/event/101068
DTSTAMP:20181026T180000Z
DESCRIPTION:περισσότερες πληροφορίες: https://mail.kinimatorama.net/event/1
 01068 
DTSTART:20181026T180000Z
DTEND:20181026T190000Z
GEO:+39.620611;+19.91523
LOCATION:Κέρκυρα\, \nκατάληψη Αντινομία \nπαλιό ψυχιατρείο
SUMMARY:Bar οικονομικής ενίσχυσης της Κατάληψης Αντινομία
URL:https://mail.kinimatorama.net/event/101068
END:VEVENT
END:VCALENDAR
