BEGIN:VCALENDAR
VERSION:2.0
PRODID:-//demosphere.net//NONSGML kigkonsult.se iCalcreator 2.22.1//
METHOD:REQUEST
X-WR-TIMEZONE:Europe/Athens
BEGIN:VEVENT
UID:https://mail.kinimatorama.net/event/102465
DTSTAMP:20181112T170000Z
DESCRIPTION:περισσότερες πληροφορίες: https://mail.kinimatorama.net/event/1
 02465 
DTSTART:20181112T170000Z
DTEND:20181112T180000Z
GEO:+39.620611;+19.91523
LOCATION:Κέρκυρα\, \nκατάληψη Αντινομία \nπαλιό ψυχιατρείο
SUMMARY:Ανοιχτή διαχειριστική συνέλευση κατάληψης Αντινομίας
URL:https://mail.kinimatorama.net/event/102465
END:VEVENT
END:VCALENDAR
