BEGIN:VCALENDAR
VERSION:2.0
PRODID:-//demosphere.net//NONSGML kigkonsult.se iCalcreator 2.22.1//
METHOD:REQUEST
X-WR-TIMEZONE:Europe/Athens
BEGIN:VEVENT
UID:https://mail.kinimatorama.net/event/102860
DTSTAMP:20181123T180000Z
DESCRIPTION:περισσότερες πληροφορίες: https://mail.kinimatorama.net/event/1
 02860 
DTSTART:20181123T180000Z
DTEND:20181123T190000Z
GEO:+39.620611;+19.91523
LOCATION:Κέρκυρα\, \nκατάληψη Αντινομία \nπαλιό ψυχιατρείο
SUMMARY:Παρουσίαση της μπροσούρας 'Ιχνηλατώντας το Δεκέμβρη'\, συζήτηση & b
 ar
URL:https://mail.kinimatorama.net/event/102860
END:VEVENT
END:VCALENDAR
