BEGIN:VCALENDAR
VERSION:2.0
PRODID:-//demosphere.net//NONSGML kigkonsult.se iCalcreator 2.22.1//
METHOD:REQUEST
X-WR-TIMEZONE:Europe/Athens
BEGIN:VEVENT
UID:https://mail.kinimatorama.net/event/103188
DTSTAMP:20181205T160000Z
DESCRIPTION:περισσότερες πληροφορίες: https://mail.kinimatorama.net/event/1
 03188 
DTSTART:20181205T160000Z
DTEND:20181205T170000Z
GEO:+39.620611;+19.91523
LOCATION:Κέρκυρα\, \nκατάληψη Αντινομία \nπαλιό ψυχιατρείο
SUMMARY:Εκδήλωση-συζήτηση: Ιστορική αναδρομή για το πογκρόμ κατά των εβραίω
 ν της Κέρκυρας
URL:https://mail.kinimatorama.net/event/103188
END:VEVENT
END:VCALENDAR
