BEGIN:VCALENDAR
VERSION:2.0
PRODID:-//demosphere.net//NONSGML kigkonsult.se iCalcreator 2.22.1//
METHOD:REQUEST
X-WR-TIMEZONE:Europe/Athens
BEGIN:VEVENT
UID:https://mail.kinimatorama.net/event/105264
DTSTAMP:20190214T183000Z
DESCRIPTION:περισσότερες πληροφορίες: https://mail.kinimatorama.net/event/1
 05264 
DTSTART:20190214T183000Z
DTEND:20190214T193000Z
GEO:+39.620611;+19.91523
LOCATION:Κέρκυρα\, \nκατάληψη Αντινομία \nπαλιό ψυχιατρείο
SUMMARY:Προβολή ντοκιμαντέρ: Μεσίστιες γαλανόλευκες και μισοφέγγαρα στις φλ
 όγες
URL:https://mail.kinimatorama.net/event/105264
END:VEVENT
END:VCALENDAR
