BEGIN:VCALENDAR
VERSION:2.0
PRODID:-//demosphere.net//NONSGML kigkonsult.se iCalcreator 2.22.1//
METHOD:REQUEST
X-WR-TIMEZONE:Europe/Athens
BEGIN:VEVENT
UID:https://mail.kinimatorama.net/event/106823
DTSTAMP:20190331T160000Z
DESCRIPTION:περισσότερες πληροφορίες: https://mail.kinimatorama.net/event/1
 06823 
DTSTART:20190331T160000Z
DTEND:20190331T170000Z
GEO:+39.620611;+19.91523
LOCATION:Κέρκυρα\, \nκατάληψη Αντινομία \nπαλιό ψυχιατρείο
SUMMARY:Εκδήλωση-Συζήτηση για δικαιώματα μας σε περίπτωση ποινικής δίωξης
URL:https://mail.kinimatorama.net/event/106823
END:VEVENT
END:VCALENDAR
