BEGIN:VCALENDAR
VERSION:2.0
PRODID:-//demosphere.net//NONSGML kigkonsult.se iCalcreator 2.22.1//
METHOD:REQUEST
X-WR-TIMEZONE:Europe/Athens
BEGIN:VEVENT
UID:https://mail.kinimatorama.net/event/107258
DTSTAMP:20190410T170000Z
DESCRIPTION:περισσότερες πληροφορίες: https://mail.kinimatorama.net/event/1
 07258 
DTSTART:20190410T170000Z
DTEND:20190410T180000Z
GEO:+39.620611;+19.91523
LOCATION:Κέρκυρα\, \nκατάληψη Αντινομία \nπαλιό ψυχιατρείο
SUMMARY:Προβολή Ντοκυμαντερ 'Ο άνεμος γυρίζει τα σημάδια προμηνύουν θύελλα'
URL:https://mail.kinimatorama.net/event/107258
END:VEVENT
END:VCALENDAR
