BEGIN:VCALENDAR
VERSION:2.0
PRODID:-//demosphere.net//NONSGML kigkonsult.se iCalcreator 2.22.1//
METHOD:REQUEST
X-WR-TIMEZONE:Europe/Athens
BEGIN:VEVENT
UID:https://mail.kinimatorama.net/event/107394
DTSTAMP:20190417T190000Z
DESCRIPTION:περισσότερες πληροφορίες: https://mail.kinimatorama.net/event/1
 07394 
DTSTART:20190417T190000Z
DTEND:20190417T200000Z
GEO:+39.620611;+19.91523
LOCATION:Κέρκυρα\, \nκατάληψη Αντινομία \nπαλιό ψυχιατρείο
SUMMARY:Party ΗipHop&Electro Sets οικονομικής ενίσχυσης του ταμείου της Άπα
 τρις
URL:https://mail.kinimatorama.net/event/107394
END:VEVENT
END:VCALENDAR
