BEGIN:VCALENDAR
VERSION:2.0
PRODID:-//demosphere.net//NONSGML kigkonsult.se iCalcreator 2.22.1//
METHOD:REQUEST
X-WR-TIMEZONE:Europe/Athens
BEGIN:VEVENT
UID:https://mail.kinimatorama.net/event/108007
DTSTAMP:20190511T170000Z
DESCRIPTION:περισσότερες πληροφορίες: https://mail.kinimatorama.net/event/1
 08007 
DTSTART:20190511T170000Z
DTEND:20190511T180000Z
GEO:+39.620611;+19.91523
LOCATION:Κέρκυρα\, \nκατάληψη Αντινομία \nπαλιό ψυχιατρείο
SUMMARY:Εκδήλωση 'Ενεργειακή ανάπτυξη & πολεμική προετοιμασία του ελληνικού
  κράτους' & bar
URL:https://mail.kinimatorama.net/event/108007
END:VEVENT
END:VCALENDAR
