BEGIN:VCALENDAR
VERSION:2.0
PRODID:-//demosphere.net//NONSGML kigkonsult.se iCalcreator 2.22.1//
METHOD:REQUEST
X-WR-TIMEZONE:Europe/Athens
BEGIN:VEVENT
UID:https://mail.kinimatorama.net/event/108275
DTSTAMP:20190517T180000Z
DESCRIPTION:περισσότερες πληροφορίες: https://mail.kinimatorama.net/event/1
 08275 
DTSTART:20190517T180000Z
DTEND:20190517T190000Z
GEO:+39.620611;+19.91523
LOCATION:Κέρκυρα\, \nκατάληψη Αντινομία \nπαλιό ψυχιατρείο
SUMMARY:Μπαρ οικονομικής ενίσχυσης της Αυτοοργανωμένης Μαθητικής Συνέλευσης
  Κέρκυρας
URL:https://mail.kinimatorama.net/event/108275
END:VEVENT
END:VCALENDAR
