BEGIN:VCALENDAR
VERSION:2.0
PRODID:-//demosphere.net//NONSGML kigkonsult.se iCalcreator 2.22.1//
METHOD:REQUEST
X-WR-TIMEZONE:Europe/Athens
BEGIN:VEVENT
UID:https://mail.kinimatorama.net/event/108280
DTSTAMP:20190525T150000Z
DESCRIPTION:περισσότερες πληροφορίες: https://mail.kinimatorama.net/event/1
 08280 
DTSTART:20190525T150000Z
DTEND:20190525T160000Z
GEO:+39.620611;+19.91523
LOCATION:Κέρκυρα\, \nκατάληψη Αντινομία \nπαλιό ψυχιατρείο
SUMMARY:Εκδήλωση: Βασικές ανάγκες και μορφές αγώνα έμπρακτης αμφισβήτησης τ
 ης ιδιοκτησίας
URL:https://mail.kinimatorama.net/event/108280
END:VEVENT
END:VCALENDAR
