BEGIN:VCALENDAR
VERSION:2.0
PRODID:-//demosphere.net//NONSGML kigkonsult.se iCalcreator 2.22.1//
METHOD:REQUEST
X-WR-TIMEZONE:Europe/Athens
BEGIN:VEVENT
UID:https://mail.kinimatorama.net/event/110255
DTSTAMP:20190824T130000Z
DESCRIPTION:περισσότερες πληροφορίες: https://mail.kinimatorama.net/event/1
 10255 
DTSTART:20190824T130000Z
DTEND:20190824T140000Z
GEO:+37.975682;+23.734846
LOCATION:Αθήνα\, \nΠλατεία Συντάγματος (Σύνταγμα)
SUMMARY:Διαμαρτυρία κατά της απόλυσης δημοκρατικά εκλεγμένων δημάρχων
URL:https://mail.kinimatorama.net/event/110255
END:VEVENT
END:VCALENDAR
