BEGIN:VCALENDAR
VERSION:2.0
PRODID:-//demosphere.net//NONSGML kigkonsult.se iCalcreator 2.22.1//
METHOD:REQUEST
X-WR-TIMEZONE:Europe/Athens
BEGIN:VEVENT
UID:https://mail.kinimatorama.net/event/113403
DTSTAMP:20191204T150000Z
DESCRIPTION:περισσότερες πληροφορίες: https://mail.kinimatorama.net/event/1
 13403 
DTSTART:20191204T150000Z
DTEND:20191204T160000Z
GEO:+37.975682;+23.734846
LOCATION:Αθήνα\, \nΠλατεία Συντάγματος (Σύνταγμα)
SUMMARY:Πορεία για την ελευθερια στον Μουσταφα και στους Grup Yorum
URL:https://mail.kinimatorama.net/event/113403
END:VEVENT
END:VCALENDAR
