BEGIN:VCALENDAR
VERSION:2.0
PRODID:-//demosphere.net//NONSGML kigkonsult.se iCalcreator 2.22.1//
METHOD:REQUEST
X-WR-TIMEZONE:Europe/Athens
BEGIN:VEVENT
UID:https://mail.kinimatorama.net/event/113998
DTSTAMP:20191212T203000Z
DESCRIPTION:περισσότερες πληροφορίες: https://mail.kinimatorama.net/event/1
 13998 
DTSTART:20191212T203000Z
DTEND:20191212T213000Z
GEO:+39.620611;+19.91523
LOCATION:Κέρκυρα\, \nκατάληψη Αντινομία \nπαλιό ψυχιατρείο
SUMMARY:2 Βραδιές Οικονομικής Ενίσχυσης των συλληφθέντων της 6ης Δεκέμβρη σ
 την Πάτρα.
URL:https://mail.kinimatorama.net/event/113998
END:VEVENT
END:VCALENDAR
