BEGIN:VCALENDAR
VERSION:2.0
PRODID:-//demosphere.net//NONSGML kigkonsult.se iCalcreator 2.22.1//
METHOD:REQUEST
X-WR-TIMEZONE:Europe/Athens
BEGIN:VEVENT
UID:https://mail.kinimatorama.net/event/114543
DTSTAMP:20200116T190000Z
DESCRIPTION:περισσότερες πληροφορίες: https://mail.kinimatorama.net/event/1
 14543 
DTSTART:20200116T190000Z
DTEND:20200116T200000Z
GEO:+39.620611;+19.91523
LOCATION:Κέρκυρα\, \nκατάληψη Αντινομία \nπαλιό ψυχιατρείο
SUMMARY:Bar οικονομικής ενίσχυσης\, vegan κουζίνα & συλλογή ειδών 1ης ανάγκ
 ης
URL:https://mail.kinimatorama.net/event/114543
END:VEVENT
END:VCALENDAR
