BEGIN:VCALENDAR
VERSION:2.0
PRODID:-//demosphere.net//NONSGML kigkonsult.se iCalcreator 2.22.1//
METHOD:REQUEST
X-WR-TIMEZONE:Europe/Athens
BEGIN:VEVENT
UID:https://mail.kinimatorama.net/event/114765
DTSTAMP:20200109T203000Z
DESCRIPTION:περισσότερες πληροφορίες: https://mail.kinimatorama.net/event/1
 14765 
DTSTART:20200109T203000Z
DTEND:20200109T213000Z
GEO:+39.620611;+19.91523
LOCATION:Κέρκυρα\, \nκατάληψη Αντινομία \nπαλιό ψυχιατρείο
SUMMARY:Bar Οικονομικής ενίσχυσης των 2 αγωνιστών για τις επιθέσεις σε γραφ
 εία της Χ.Α.
URL:https://mail.kinimatorama.net/event/114765
END:VEVENT
END:VCALENDAR
