BEGIN:VCALENDAR
VERSION:2.0
PRODID:-//demosphere.net//NONSGML kigkonsult.se iCalcreator 2.22.1//
METHOD:REQUEST
X-WR-TIMEZONE:Europe/Athens
BEGIN:VEVENT
UID:https://mail.kinimatorama.net/event/115219
DTSTAMP:20200125T013300Z
DESCRIPTION:περισσότερες πληροφορίες: https://mail.kinimatorama.net/event/1
 15219 
DTSTART;VALUE=DATE:20200125
GEO:+39.620611;+19.91523
LOCATION:Κέρκυρα\, \nκατάληψη Αντινομία \nπαλιό ψυχιατρείο
SUMMARY:2ήμερο εκδηλώσεων για ένα χρόνο Αυτοοργανωμένης Μαθητικής Συνέλευση
 ς Κέρκυρας
URL:https://mail.kinimatorama.net/event/115219
END:VEVENT
END:VCALENDAR
