BEGIN:VCALENDAR
VERSION:2.0
PRODID:-//demosphere.net//NONSGML kigkonsult.se iCalcreator 2.22.1//
METHOD:REQUEST
X-WR-TIMEZONE:Europe/Athens
BEGIN:VEVENT
UID:https://mail.kinimatorama.net/event/115782
DTSTAMP:20200220T193000Z
DESCRIPTION:περισσότερες πληροφορίες: https://mail.kinimatorama.net/event/1
 15782 
DTSTART:20200220T193000Z
DTEND:20200220T203000Z
GEO:+39.620611;+19.91523
LOCATION:Κέρκυρα\, \nκατάληψη Αντινομία \nπαλιό ψυχιατρείο
SUMMARY:Bar + Vegan Κoυζίνα για την οικονομική ενίσχυση της κατάληψης Αντιν
 ομία
URL:https://mail.kinimatorama.net/event/115782
END:VEVENT
END:VCALENDAR
