BEGIN:VCALENDAR
VERSION:2.0
PRODID:-//demosphere.net//NONSGML kigkonsult.se iCalcreator 2.22.1//
METHOD:REQUEST
X-WR-TIMEZONE:Europe/Athens
BEGIN:VEVENT
UID:https://mail.kinimatorama.net/event/116558
DTSTAMP:20200228T170000Z
DESCRIPTION:περισσότερες πληροφορίες: https://mail.kinimatorama.net/event/1
 16558 
DTSTART:20200228T170000Z
DTEND:20200228T180000Z
GEO:+39.620611;+19.91523
LOCATION:Κέρκυρα\, \nκατάληψη Αντινομία \nπαλιό ψυχιατρείο
SUMMARY:Εκδήλωση/Συζήτηση: Από την εξακρίβωση... μέχρι την σύλληψη
URL:https://mail.kinimatorama.net/event/116558
END:VEVENT
END:VCALENDAR
