BEGIN:VCALENDAR
VERSION:2.0
PRODID:-//demosphere.net//NONSGML kigkonsult.se iCalcreator 2.22.1//
METHOD:REQUEST
X-WR-TIMEZONE:Europe/Athens
BEGIN:VEVENT
UID:https://mail.kinimatorama.net/event/11680
DTSTAMP:20110701T160000Z
DESCRIPTION:περισσότερες πληροφορίες: https://mail.kinimatorama.net/event/1
 1680 
DTSTART:20110701T160000Z
DTEND:20110701T170000Z
GEO:+37.975682;+23.734846
LOCATION:Αθήνα\, \nΠλατεία Συντάγματος (Σύνταγμα)
SUMMARY:Συζήτηση για το πως συνεχίζουμε απέναντι στα νέα μέτρα
URL:https://mail.kinimatorama.net/event/11680
END:VEVENT
END:VCALENDAR
