BEGIN:VCALENDAR
VERSION:2.0
PRODID:-//demosphere.net//NONSGML kigkonsult.se iCalcreator 2.22.1//
METHOD:REQUEST
X-WR-TIMEZONE:Europe/Athens
BEGIN:VEVENT
UID:https://mail.kinimatorama.net/event/117069
DTSTAMP:20200311T090000Z
DESCRIPTION:περισσότερες πληροφορίες: https://mail.kinimatorama.net/event/1
 17069 
DTSTART:20200311T090000Z
DTEND:20200311T100000Z
GEO:+37.975682;+23.734846
LOCATION:Αθήνα\, \nΠλατεία Συντάγματος (Σύνταγμα)
SUMMARY:Πορεία προς τη Γενική Γραμματεία Μεταναστευτικής Πολιτικής
URL:https://mail.kinimatorama.net/event/117069
END:VEVENT
END:VCALENDAR
