BEGIN:VCALENDAR
VERSION:2.0
PRODID:-//demosphere.net//NONSGML kigkonsult.se iCalcreator 2.22.1//
METHOD:REQUEST
X-WR-TIMEZONE:Europe/Athens
BEGIN:VEVENT
UID:https://mail.kinimatorama.net/event/11806
DTSTAMP:20110708T160000Z
DESCRIPTION:περισσότερες πληροφορίες: https://mail.kinimatorama.net/event/1
 1806 
DTSTART:20110708T160000Z
DTEND:20110708T170000Z
GEO:+37.975682;+23.734846
LOCATION:Αθήνα\, \nΠλατεία Συντάγματος (Σύνταγμα)
SUMMARY:Λαική διαβούλευση: Νομοσχέδιο Διαμαντοπούλου σε ΑΕΙ & ΤΕΙ
URL:https://mail.kinimatorama.net/event/11806
END:VEVENT
END:VCALENDAR
