BEGIN:VCALENDAR
VERSION:2.0
PRODID:-//demosphere.net//NONSGML kigkonsult.se iCalcreator 2.22.1//
METHOD:REQUEST
X-WR-TIMEZONE:Europe/Athens
BEGIN:VEVENT
UID:https://mail.kinimatorama.net/event/11819
DTSTAMP:20110706T153000Z
DESCRIPTION:περισσότερες πληροφορίες: https://mail.kinimatorama.net/event/1
 1819 
DTSTART:20110706T153000Z
DTEND:20110706T163000Z
GEO:+37.975682;+23.734846
LOCATION:Αθήνα\, \nΠλατεία Συντάγματος (Σύνταγμα)
SUMMARY:Καλλιτεχνικές εκδηλώσεις στο Σύνταγμα
URL:https://mail.kinimatorama.net/event/11819
END:VEVENT
END:VCALENDAR
