BEGIN:VCALENDAR
VERSION:2.0
PRODID:-//demosphere.net//NONSGML kigkonsult.se iCalcreator 2.22.1//
METHOD:REQUEST
X-WR-TIMEZONE:Europe/Athens
BEGIN:VEVENT
UID:https://mail.kinimatorama.net/event/11827
DTSTAMP:20110707T163000Z
DESCRIPTION:περισσότερες πληροφορίες: https://mail.kinimatorama.net/event/1
 1827 
DTSTART:20110707T163000Z
DTEND:20110707T173000Z
GEO:+37.975682;+23.734846
LOCATION:Αθήνα\, \nΠλατεία Συντάγματος (Σύνταγμα)
SUMMARY:Καλλιτεχνικά δρώμενα Συντάγματος
URL:https://mail.kinimatorama.net/event/11827
END:VEVENT
END:VCALENDAR
