BEGIN:VCALENDAR
VERSION:2.0
PRODID:-//demosphere.net//NONSGML kigkonsult.se iCalcreator 2.22.1//
METHOD:REQUEST
X-WR-TIMEZONE:Europe/Athens
BEGIN:VEVENT
UID:https://mail.kinimatorama.net/event/118313
DTSTAMP:20200528T150000Z
DESCRIPTION:περισσότερες πληροφορίες: https://mail.kinimatorama.net/event/1
 18313 
DTSTART:20200528T150000Z
DTEND:20200528T160000Z
GEO:+39.620611;+19.91523
LOCATION:Κέρκυρα\, \nκατάληψη Αντινομία \nπαλιό ψυχιατρείο
SUMMARY:Open Jamming Οικονομικής Ενίσχυσης Πολιτικών Κρατουμένων
URL:https://mail.kinimatorama.net/event/118313
END:VEVENT
END:VCALENDAR
