BEGIN:VCALENDAR
VERSION:2.0
PRODID:-//demosphere.net//NONSGML kigkonsult.se iCalcreator 2.22.1//
METHOD:REQUEST
X-WR-TIMEZONE:Europe/Athens
BEGIN:VEVENT
UID:https://mail.kinimatorama.net/event/11858
DTSTAMP:20110710T003300Z
DESCRIPTION:περισσότερες πληροφορίες: https://mail.kinimatorama.net/event/1
 1858 
DTSTART;VALUE=DATE:20110710
GEO:+37.975682;+23.734846
LOCATION:Αθήνα\, \nΠλατεία Συντάγματος (Σύνταγμα)
SUMMARY:Πανελλαδικός συντονισμός λαικών συνελεύσεων
URL:https://mail.kinimatorama.net/event/11858
END:VEVENT
END:VCALENDAR
