BEGIN:VCALENDAR
VERSION:2.0
PRODID:-//demosphere.net//NONSGML kigkonsult.se iCalcreator 2.22.1//
METHOD:REQUEST
X-WR-TIMEZONE:Europe/Athens
BEGIN:VEVENT
UID:https://mail.kinimatorama.net/event/11870
DTSTAMP:20110708T205300Z
DESCRIPTION:περισσότερες πληροφορίες: https://mail.kinimatorama.net/event/1
 1870 
DTSTART:20110708T205300Z
DTEND:20110708T215300Z
GEO:+37.975682;+23.734846
LOCATION:Αθήνα\, \nΠλατεία Συντάγματος (Σύνταγμα)
SUMMARY:Δρώμενα Πλατείας Συντάγματος
URL:https://mail.kinimatorama.net/event/11870
END:VEVENT
END:VCALENDAR
