BEGIN:VCALENDAR
VERSION:2.0
PRODID:-//demosphere.net//NONSGML kigkonsult.se iCalcreator 2.22.1//
METHOD:REQUEST
X-WR-TIMEZONE:Europe/Athens
BEGIN:VEVENT
UID:https://mail.kinimatorama.net/event/118842
DTSTAMP:20200610T160000Z
DESCRIPTION:περισσότερες πληροφορίες: https://mail.kinimatorama.net/event/1
 18842 
DTSTART:20200610T160000Z
DTEND:20200610T170000Z
GEO:+37.975682;+23.734846
LOCATION:Αθήνα\, \nΠλατεία Συντάγματος (Σύνταγμα)
SUMMARY:Συλλαλητήριο ενάντια στο αντιεκπαιδευτικό νομοσχέδιο της Κεραμέως
URL:https://mail.kinimatorama.net/event/118842
END:VEVENT
END:VCALENDAR
