BEGIN:VCALENDAR
VERSION:2.0
PRODID:-//demosphere.net//NONSGML kigkonsult.se iCalcreator 2.22.1//
METHOD:REQUEST
X-WR-TIMEZONE:Europe/Athens
BEGIN:VEVENT
UID:https://mail.kinimatorama.net/event/11892
DTSTAMP:20110710T205500Z
DESCRIPTION:περισσότερες πληροφορίες: https://mail.kinimatorama.net/event/1
 1892 
DTSTART:20110710T205500Z
DTEND:20110710T215500Z
GEO:+37.975682;+23.734846
LOCATION:Αθήνα\, \nΠλατεία Συντάγματος (Σύνταγμα)
SUMMARY:Συναυλία οικ.ενίσχυσης των συλληφθέντων του μεσοπρόθεσμου
URL:https://mail.kinimatorama.net/event/11892
END:VEVENT
END:VCALENDAR
