BEGIN:VCALENDAR
VERSION:2.0
PRODID:-//demosphere.net//NONSGML kigkonsult.se iCalcreator 2.22.1//
METHOD:REQUEST
X-WR-TIMEZONE:Europe/Athens
BEGIN:VEVENT
UID:https://mail.kinimatorama.net/event/119181
DTSTAMP:20200620T170000Z
DESCRIPTION:περισσότερες πληροφορίες: https://mail.kinimatorama.net/event/1
 19181 
DTSTART:20200620T170000Z
DTEND:20200620T180000Z
GEO:+39.620611;+19.91523
LOCATION:Κέρκυρα\, \nκατάληψη Αντινομία \nπαλιό ψυχιατρείο
SUMMARY:(αναβάλλεται) Bar οικονομικής ενίσχυσης του Αντιφασιστικού Συντονισ
 μού Κέρκυρας
URL:https://mail.kinimatorama.net/event/119181
END:VEVENT
END:VCALENDAR
