BEGIN:VCALENDAR
VERSION:2.0
PRODID:-//demosphere.net//NONSGML kigkonsult.se iCalcreator 2.22.1//
METHOD:REQUEST
X-WR-TIMEZONE:Europe/Athens
BEGIN:VEVENT
UID:https://mail.kinimatorama.net/event/119916
DTSTAMP:20200718T163000Z
DESCRIPTION:περισσότερες πληροφορίες: https://mail.kinimatorama.net/event/1
 19916 
DTSTART:20200718T163000Z
DTEND:20200718T173000Z
GEO:+39.620611;+19.91523
LOCATION:Κέρκυρα\, \nκατάληψη Αντινομία \nπαλιό ψυχιατρείο
SUMMARY:Χαριστικό Bazaar Ρούχων και Βιβλίων
URL:https://mail.kinimatorama.net/event/119916
END:VEVENT
END:VCALENDAR
