BEGIN:VCALENDAR
VERSION:2.0
PRODID:-//demosphere.net//NONSGML kigkonsult.se iCalcreator 2.22.1//
METHOD:REQUEST
X-WR-TIMEZONE:Europe/Athens
BEGIN:VEVENT
UID:https://mail.kinimatorama.net/event/120256
DTSTAMP:20200815T180000Z
DESCRIPTION:περισσότερες πληροφορίες: https://mail.kinimatorama.net/event/1
 20256 
DTSTART:20200815T180000Z
DTEND:20200815T190000Z
GEO:+39.620611;+19.91523
LOCATION:Κέρκυρα\, \nκατάληψη Αντινομία \nπαλιό ψυχιατρείο
SUMMARY:Προβολή του ντοκυμαντέρ 'Πώς το καταλάβαμε'\, συζήτηση και bar
URL:https://mail.kinimatorama.net/event/120256
END:VEVENT
END:VCALENDAR
