BEGIN:VCALENDAR
VERSION:2.0
PRODID:-//demosphere.net//NONSGML kigkonsult.se iCalcreator 2.22.1//
METHOD:REQUEST
X-WR-TIMEZONE:Europe/Athens
BEGIN:VEVENT
UID:https://mail.kinimatorama.net/event/121652
DTSTAMP:20201017T170000Z
DESCRIPTION:περισσότερες πληροφορίες: https://mail.kinimatorama.net/event/1
 21652 
DTSTART:20201017T170000Z
DTEND:20201017T180000Z
GEO:+39.620611;+19.91523
LOCATION:Κέρκυρα\, \nκατάληψη Αντινομία \nπαλιό ψυχιατρείο
SUMMARY:Βιβλιοπαρουσίαση 'Η πολιορκία του Σαράγεβο 1992-1996' + προβολή 'Mi
 ss Sarajevo'
URL:https://mail.kinimatorama.net/event/121652
END:VEVENT
END:VCALENDAR
