BEGIN:VCALENDAR
VERSION:2.0
PRODID:-//demosphere.net//NONSGML kigkonsult.se iCalcreator 2.22.1//
METHOD:REQUEST
X-WR-TIMEZONE:Europe/Athens
BEGIN:VEVENT
UID:https://mail.kinimatorama.net/event/121723
DTSTAMP:20201020T090000Z
DESCRIPTION:περισσότερες πληροφορίες: https://mail.kinimatorama.net/event/1
 21723 
DTSTART:20201020T090000Z
DTEND:20201020T100000Z
GEO:+37.975682;+23.734846
LOCATION:Αθήνα\, \nΠλατεία Συντάγματος (Σύνταγμα)
SUMMARY:Συγκέντρωση για τη χορήγηση ασύλου από απορριφθέντες αιτούντες από 
 το Ιράκ
URL:https://mail.kinimatorama.net/event/121723
END:VEVENT
END:VCALENDAR
