BEGIN:VCALENDAR
VERSION:2.0
PRODID:-//demosphere.net//NONSGML kigkonsult.se iCalcreator 2.22.1//
METHOD:REQUEST
X-WR-TIMEZONE:Europe/Athens
BEGIN:VEVENT
UID:https://mail.kinimatorama.net/event/122467
DTSTAMP:20201207T150000Z
DESCRIPTION:περισσότερες πληροφορίες: https://mail.kinimatorama.net/event/1
 22467 
DTSTART:20201207T150000Z
DTEND:20201207T160000Z
GEO:+39.620611;+19.91523
LOCATION:Κέρκυρα\, \nκατάληψη Αντινομία \nπαλιό ψυχιατρείο
SUMMARY:Διάθεση Ατζέντας Ταμείου Αλληλεγγύης Φυλακισμένων & Διωκόμενων Αγων
 ιστ(ρι)ών
URL:https://mail.kinimatorama.net/event/122467
END:VEVENT
END:VCALENDAR
