BEGIN:VCALENDAR
VERSION:2.0
PRODID:-//demosphere.net//NONSGML kigkonsult.se iCalcreator 2.22.1//
METHOD:REQUEST
X-WR-TIMEZONE:Europe/Athens
BEGIN:VEVENT
UID:https://mail.kinimatorama.net/event/124019
DTSTAMP:20210311T160000Z
DESCRIPTION:περισσότερες πληροφορίες: https://mail.kinimatorama.net/event/1
 24019 
DTSTART:20210311T160000Z
DTEND:20210311T170000Z
GEO:+37.975682;+23.734846
LOCATION:Αθήνα\, \nΠλατεία Συντάγματος (Σύνταγμα)
SUMMARY:Μέρα Δράσης για τα Δημοκρατικά Δικαιώματα και ενάντια στον αυταρχισ
 μό
URL:https://mail.kinimatorama.net/event/124019
END:VEVENT
END:VCALENDAR
