BEGIN:VCALENDAR
VERSION:2.0
PRODID:-//demosphere.net//NONSGML kigkonsult.se iCalcreator 2.22.1//
METHOD:REQUEST
X-WR-TIMEZONE:Europe/Athens
BEGIN:VEVENT
UID:https://mail.kinimatorama.net/event/124326
DTSTAMP:20210317T100000Z
DESCRIPTION:περισσότερες πληροφορίες: https://mail.kinimatorama.net/event/1
 24326 
DTSTART:20210317T100000Z
DTEND:20210317T110000Z
GEO:+37.975682;+23.734846
LOCATION:Αθήνα\, \nΠλατεία Συντάγματος (Σύνταγμα)
SUMMARY:Οχι στην υπογραφη της νεας συμβασης-ντροπη για τις Σκουριές
URL:https://mail.kinimatorama.net/event/124326
END:VEVENT
END:VCALENDAR
