BEGIN:VCALENDAR
VERSION:2.0
PRODID:-//demosphere.net//NONSGML kigkonsult.se iCalcreator 2.22.1//
METHOD:REQUEST
X-WR-TIMEZONE:Europe/Athens
BEGIN:VEVENT
UID:https://mail.kinimatorama.net/event/124842
DTSTAMP:20210331T090000Z
DESCRIPTION:περισσότερες πληροφορίες: https://mail.kinimatorama.net/event/1
 24842 
DTSTART:20210331T090000Z
DTEND:20210331T100000Z
GEO:+37.975682;+23.734846
LOCATION:Αθήνα\, \nΠλατεία Συντάγματος (Σύνταγμα)
SUMMARY:Πορεία ενάντια στην εντατικοποίηση και την άγρια εκμετάλλευση των ν
 τελιβεράδων
URL:https://mail.kinimatorama.net/event/124842
END:VEVENT
END:VCALENDAR
