BEGIN:VCALENDAR
VERSION:2.0
PRODID:-//demosphere.net//NONSGML kigkonsult.se iCalcreator 2.22.1//
METHOD:REQUEST
X-WR-TIMEZONE:Europe/Athens
BEGIN:VEVENT
UID:https://mail.kinimatorama.net/event/125776
DTSTAMP:20210420T093000Z
DESCRIPTION:περισσότερες πληροφορίες: https://mail.kinimatorama.net/event/1
 25776 
DTSTART:20210420T093000Z
DTEND:20210420T103000Z
GEO:+39.620611;+19.91523
LOCATION:Κέρκυρα\, \nκατάληψη Αντινομία \nπαλιό ψυχιατρείο
SUMMARY:Κινηματικό βιβλιοπωλείο & ανταλλακτικό παζάρι ρούχων
URL:https://mail.kinimatorama.net/event/125776
END:VEVENT
END:VCALENDAR
