BEGIN:VCALENDAR
VERSION:2.0
PRODID:-//demosphere.net//NONSGML kigkonsult.se iCalcreator 2.22.1//
METHOD:REQUEST
X-WR-TIMEZONE:Europe/Athens
BEGIN:VEVENT
UID:https://mail.kinimatorama.net/event/125779
DTSTAMP:20210424T090000Z
DESCRIPTION:περισσότερες πληροφορίες: https://mail.kinimatorama.net/event/1
 25779 
DTSTART:20210424T090000Z
DTEND:20210424T100000Z
GEO:+39.620611;+19.91523
LOCATION:Κέρκυρα\, \nκατάληψη Αντινομία \nπαλιό ψυχιατρείο
SUMMARY:Καφενείο για την οικονομική ενίσχυση του ταξιδιού των Ζαπατίστας στ
 ην Ευρώπη
URL:https://mail.kinimatorama.net/event/125779
END:VEVENT
END:VCALENDAR
