BEGIN:VCALENDAR
VERSION:2.0
PRODID:-//demosphere.net//NONSGML kigkonsult.se iCalcreator 2.22.1//
METHOD:REQUEST
X-WR-TIMEZONE:Europe/Athens
BEGIN:VEVENT
UID:https://mail.kinimatorama.net/event/126811
DTSTAMP:20210528T153000Z
DESCRIPTION:περισσότερες πληροφορίες: https://mail.kinimatorama.net/event/1
 26811 
DTSTART:20210528T153000Z
DTEND:20210528T163000Z
GEO:+37.975682;+23.734846
LOCATION:Αθήνα\, \nΠλατεία Συντάγματος (Σύνταγμα)
SUMMARY:Παρέμβαση ενάντια στο αντεργατικό νομοσχέδιο Χατζηδάκη
URL:https://mail.kinimatorama.net/event/126811
END:VEVENT
END:VCALENDAR
