BEGIN:VCALENDAR
VERSION:2.0
PRODID:-//demosphere.net//NONSGML kigkonsult.se iCalcreator 2.22.1//
METHOD:REQUEST
X-WR-TIMEZONE:Europe/Athens
BEGIN:VEVENT
UID:https://mail.kinimatorama.net/event/127617
DTSTAMP:20210620T180000Z
DESCRIPTION:περισσότερες πληροφορίες: https://mail.kinimatorama.net/event/1
 27617 
DTSTART:20210620T180000Z
DTEND:20210620T190000Z
GEO:+39.620611;+19.91523
LOCATION:Κέρκυρα\, \nκατάληψη Αντινομία \nπαλιό ψυχιατρείο
SUMMARY:Προβολή του ντοκιμαντέρ 'Music for ordinary life machines' & bar οι
 κονομικής ενίσχυσης
URL:https://mail.kinimatorama.net/event/127617
END:VEVENT
END:VCALENDAR
