BEGIN:VCALENDAR
VERSION:2.0
PRODID:-//demosphere.net//NONSGML kigkonsult.se iCalcreator 2.22.1//
METHOD:REQUEST
X-WR-TIMEZONE:Europe/Athens
BEGIN:VEVENT
UID:https://mail.kinimatorama.net/event/128496
DTSTAMP:20210717T160000Z
DESCRIPTION:περισσότερες πληροφορίες: https://mail.kinimatorama.net/event/1
 28496 
DTSTART:20210717T160000Z
DTEND:20210717T170000Z
GEO:+37.975682;+23.734846
LOCATION:Αθήνα\, \nΠλατεία Συντάγματος (Σύνταγμα)
SUMMARY:Συγκέντρωση και πορεία ενάντια στην πατριαρχία και την έμφυλη βια
URL:https://mail.kinimatorama.net/event/128496
END:VEVENT
END:VCALENDAR
