BEGIN:VCALENDAR
VERSION:2.0
PRODID:-//demosphere.net//NONSGML kigkonsult.se iCalcreator 2.22.1//
METHOD:REQUEST
X-WR-TIMEZONE:Europe/Athens
BEGIN:VEVENT
UID:https://mail.kinimatorama.net/event/128765
DTSTAMP:20210811T150000Z
DESCRIPTION:περισσότερες πληροφορίες: https://mail.kinimatorama.net/event/1
 28765 
DTSTART:20210811T150000Z
DTEND:20210811T160000Z
GEO:+39.620611;+19.91523
LOCATION:Κέρκυρα\, \nκατάληψη Αντινομία \nπαλιό ψυχιατρείο
SUMMARY:Συλλογή ειδών πρώτης ανάγκης και τροφίμων για τους πυρόπληκτους
URL:https://mail.kinimatorama.net/event/128765
END:VEVENT
END:VCALENDAR
