BEGIN:VCALENDAR
VERSION:2.0
PRODID:-//demosphere.net//NONSGML kigkonsult.se iCalcreator 2.22.1//
METHOD:REQUEST
X-WR-TIMEZONE:Europe/Athens
BEGIN:VEVENT
UID:https://mail.kinimatorama.net/event/129003
DTSTAMP:20210830T180000Z
DESCRIPTION:περισσότερες πληροφορίες: https://mail.kinimatorama.net/event/1
 29003 
DTSTART:20210830T180000Z
DTEND:20210830T190000Z
GEO:+39.620611;+19.91523
LOCATION:Κέρκυρα\, \nκατάληψη Αντινομία \nπαλιό ψυχιατρείο
SUMMARY:Bar για την κάλυψη προστίμων των προσαχθέντων συντρόφων/ισσών από τ
 η Λάρισα
URL:https://mail.kinimatorama.net/event/129003
END:VEVENT
END:VCALENDAR
