BEGIN:VCALENDAR
VERSION:2.0
PRODID:-//demosphere.net//NONSGML kigkonsult.se iCalcreator 2.22.1//
METHOD:REQUEST
X-WR-TIMEZONE:Europe/Athens
BEGIN:VEVENT
UID:https://mail.kinimatorama.net/event/129801
DTSTAMP:20211002T133000Z
DESCRIPTION:περισσότερες πληροφορίες: https://mail.kinimatorama.net/event/1
 29801 
DTSTART:20211002T133000Z
DTEND:20211002T143000Z
GEO:+39.620611;+19.91523
LOCATION:Κέρκυρα\, \nκατάληψη Αντινομία \nπαλιό ψυχιατρείο
SUMMARY:Συλλογικό μαγείρεμα\, κουζίνα ρεφενέ & εκδήλωση-παρουσίαση της κοιν
 ωνικής κουζίνας
URL:https://mail.kinimatorama.net/event/129801
END:VEVENT
END:VCALENDAR
