BEGIN:VCALENDAR
VERSION:2.0
PRODID:-//demosphere.net//NONSGML kigkonsult.se iCalcreator 2.22.1//
METHOD:REQUEST
X-WR-TIMEZONE:Europe/Athens
BEGIN:VEVENT
UID:https://mail.kinimatorama.net/event/129904
DTSTAMP:20211005T100000Z
DESCRIPTION:περισσότερες πληροφορίες: https://mail.kinimatorama.net/event/1
 29904 
DTSTART:20211005T100000Z
DTEND:20211005T110000Z
GEO:+37.975682;+23.734846
LOCATION:Αθήνα\, \nΠλατεία Συντάγματος (Σύνταγμα)
SUMMARY:Συνέντευξη Τύπου: Ένα χρόνο από την καταδίκη της Χρυσής Αυγής
URL:https://mail.kinimatorama.net/event/129904
END:VEVENT
END:VCALENDAR
