BEGIN:VCALENDAR
VERSION:2.0
PRODID:-//demosphere.net//NONSGML kigkonsult.se iCalcreator 2.22.1//
METHOD:REQUEST
X-WR-TIMEZONE:Europe/Athens
BEGIN:VEVENT
UID:https://mail.kinimatorama.net/event/13025
DTSTAMP:20111001T090000Z
DESCRIPTION:περισσότερες πληροφορίες: https://mail.kinimatorama.net/event/1
 3025 
DTSTART:20111001T090000Z
DTEND:20111001T100000Z
GEO:+37.975682;+23.734846
LOCATION:Αθήνα\, \nΠλατεία Συντάγματος (Σύνταγμα)
SUMMARY:Πορεία αλληλεγγύης στα μέλη του Επαναστατικού Αγώνα
URL:https://mail.kinimatorama.net/event/13025
END:VEVENT
END:VCALENDAR
