BEGIN:VCALENDAR
VERSION:2.0
PRODID:-//demosphere.net//NONSGML kigkonsult.se iCalcreator 2.22.1//
METHOD:REQUEST
X-WR-TIMEZONE:Europe/Athens
BEGIN:VEVENT
UID:https://mail.kinimatorama.net/event/130393
DTSTAMP:20211014T180000Z
DESCRIPTION:περισσότερες πληροφορίες: https://mail.kinimatorama.net/event/1
 30393 
DTSTART:20211014T180000Z
DTEND:20211014T190000Z
GEO:+39.620611;+19.91523
LOCATION:Κέρκυρα\, \nκατάληψη Αντινομία \nπαλιό ψυχιατρείο
SUMMARY:Bar οικονομικής ενίσχυσης για την διοργάνωση εκδηλώσεων/live
URL:https://mail.kinimatorama.net/event/130393
END:VEVENT
END:VCALENDAR
